BEGIN:VCALENDAR
VERSION:2.0
METHOD:PUBLISH
CALSCALE:GREGORIAN
PRODID:-//Refresh Web Development//Helios Calendar//EN
X-FROM-URL:https://www.bayareascience.org/calendar/index.php?com=details&eID=33199
X-WR-RELCALID:BayAreaScience.org A Tale of Three Cities 20221205T163000
X-WR-TIMEZONE:America/New_York
X-WR-CALNAME:BayAreaScience.org
BEGIN:VEVENT
URL;VALUE=URI:https://www.bayareascience.org/calendar/index.php?com=detail&eID=33199
DTSTART:20221205T163000
DTEND:20221205T172000
SUMMARY:A Tale of Three Cities
DESCRIPTION:Over the last three decades\, under the stewardship of Mayor Jim Brainard\, the City of Carmel\, Indiana and its citizens engaged in an experiment to reverse the trends of urban sprawl that have contributed...\n______________________________\nThis Event Downloaded From a Helios Calendar Powered Site
LOCATION:Huang Engineering Center - Stanford University NVIDIA Auditorium\, Stanford\, CA  94305
CATEGORIES:BayAreaScience.org Events
PRIORITY:0
TRANSP:TRANSPARENT
END:VEVENT
END:VCALENDAR