BEGIN:VCALENDAR
VERSION:2.0
METHOD:PUBLISH
CALSCALE:GREGORIAN
PRODID:-//Refresh Web Development//Helios Calendar//EN
X-FROM-URL:https://www.bayareascience.org/calendar/index.php?com=details&eID=33200
X-WR-RELCALID:BayAreaScience.org  Low mass galaxies beyond the Milky Way with LSST 20221205T110000
X-WR-TIMEZONE:America/New_York
X-WR-CALNAME:BayAreaScience.org
BEGIN:VEVENT
URL;VALUE=URI:https://www.bayareascience.org/calendar/index.php?com=detail&eID=33200
DTSTART:20221205T110000
DTEND:20221205T120000
SUMMARY: Low mass galaxies beyond the Milky Way with LSST
DESCRIPTION:The number densities\, structures\, internal dynamics\, and stellar populations of low mass galaxies can be extremely insightful for studying dark matter and galaxy formation on small scales. Access...\n______________________________\nThis Event Downloaded From a Helios Calendar Powered Site
LOCATION:Varian Physics Building - 382 Via Pueblo Mall Room 355\, Stanford\, CA  94305
CATEGORIES:BayAreaScience.org Events
PRIORITY:0
TRANSP:TRANSPARENT
END:VEVENT
END:VCALENDAR