BEGIN:VCALENDAR
VERSION:2.0
METHOD:PUBLISH
CALSCALE:GREGORIAN
PRODID:-//Refresh Web Development//Helios Calendar//EN
X-FROM-URL:https://www.bayareascience.org/calendar/index.php?com=details&eID=33204
X-WR-RELCALID:BayAreaScience.org Educator Workshop: Mindful Modeling (K - 1)  20221205T153000
X-WR-TIMEZONE:America/New_York
X-WR-CALNAME:BayAreaScience.org
BEGIN:VEVENT
URL;VALUE=URI:https://www.bayareascience.org/calendar/index.php?com=detail&eID=33204
DTSTART:20221205T153000
DTEND:20221205T164500
SUMMARY:Educator Workshop: Mindful Modeling (K - 1) 
DESCRIPTION:Are you a K - 1 educator? Register for this free online workshop exploring mindful modeling.What is mindful modeling? And how does classroom discussion support K - 1 studentsâ€™ engagement...\n______________________________\nThis Event Downloaded From a Helios Calendar Powered Site
LOCATION:ExplOratorium - Pier 15 (Embarcadero at Green Street)  \, San Francisco\, CA USA 94111
CATEGORIES:BayAreaScience.org Events
PRIORITY:0
TRANSP:TRANSPARENT
END:VEVENT
END:VCALENDAR