BEGIN:VCALENDAR
VERSION:2.0
METHOD:PUBLISH
CALSCALE:GREGORIAN
PRODID:-//Refresh Web Development//Helios Calendar//EN
X-FROM-URL:https://www.bayareascience.org/calendar/index.php?com=details&eID=33212
X-WR-RELCALID:BayAreaScience.org  The James Webb Space Telescope: Atmospheres of Other Worlds - RESCHEDULED 20230131T190000
X-WR-TIMEZONE:America/New_York
X-WR-CALNAME:BayAreaScience.org
BEGIN:VEVENT
URL;VALUE=URI:https://www.bayareascience.org/calendar/index.php?com=detail&eID=33212
DTSTART:20230131T190000
DTEND:20230131T200000
SUMMARY: The James Webb Space Telescope: Atmospheres of Other Worlds - RESCHEDULED
DESCRIPTION:JWST is an extraordinary technological achievement. Its ultra-precise optical system makes it a powerful tool for studying extrasolar planets (exoplanets) - worlds that orbit around other stars....\n______________________________\nThis Event Downloaded From a Helios Calendar Powered Site
LOCATION:Lathrop Library - 518 Memorial Way\, Stanford University Bishop Auditorium\, Stanford\, CA  94305
CATEGORIES:BayAreaScience.org Events
PRIORITY:0
TRANSP:TRANSPARENT
END:VEVENT
END:VCALENDAR