BEGIN:VCALENDAR
VERSION:2.0
METHOD:PUBLISH
CALSCALE:GREGORIAN
PRODID:-//Refresh Web Development//Helios Calendar//EN
X-FROM-URL:https://www.bayareascience.org/calendar/index.php?com=details&eID=33215
X-WR-RELCALID:BayAreaScience.org How Ignition and Target Gain > 1 Was Achieved In Inertial Fusion 20230124T153000
X-WR-TIMEZONE:America/New_York
X-WR-CALNAME:BayAreaScience.org
BEGIN:VEVENT
URL;VALUE=URI:https://www.bayareascience.org/calendar/index.php?com=detail&eID=33215
DTSTART:20230124T153000
DTEND:20230124T163000
SUMMARY:How Ignition and Target Gain > 1 Was Achieved In Inertial Fusion
DESCRIPTION:For many decades the running joke in fusion research has been that `fusionâ€™ is twenty years away and always will be. Yet\, this year we find ourselves in a position where we can talk about...\n______________________________\nThis Event Downloaded From a Helios Calendar Powered Site
LOCATION:Hewlett Teaching Center - 370 Jane Stanford Way\, Room 201 Stanford University\, Stanford\, CA  94305
CATEGORIES:BayAreaScience.org Events
PRIORITY:0
TRANSP:TRANSPARENT
END:VEVENT
END:VCALENDAR