BEGIN:VCALENDAR
VERSION:2.0
METHOD:PUBLISH
CALSCALE:GREGORIAN
PRODID:-//Refresh Web Development//Helios Calendar//EN
X-FROM-URL:https://www.bayareascience.org/calendar/index.php?com=details&eID=33217
X-WR-RELCALID:BayAreaScience.org IXPE: Our First Look Around the X-ray Polarized Sky 20230207T153000
X-WR-TIMEZONE:America/New_York
X-WR-CALNAME:BayAreaScience.org
BEGIN:VEVENT
URL;VALUE=URI:https://www.bayareascience.org/calendar/index.php?com=detail&eID=33217
DTSTART:20230207T153000
DTEND:20230207T163000
SUMMARY:IXPE: Our First Look Around the X-ray Polarized Sky
DESCRIPTION:For 50 years\, the only astronomical source with measured soft X-ray polarization was the Crab nebula\, initially detected with sounding rockets. Now we finally have the Imaging X-ray Polarimetry...\n______________________________\nThis Event Downloaded From a Helios Calendar Powered Site
LOCATION:Hewlett Teaching Center - 370 Jane Stanford Way\, Room 201 Stanford University\, Stanford\, CA  94305
CATEGORIES:BayAreaScience.org Events
PRIORITY:0
TRANSP:TRANSPARENT
END:VEVENT
END:VCALENDAR