BEGIN:VCALENDAR
VERSION:2.0
METHOD:PUBLISH
CALSCALE:GREGORIAN
PRODID:-//Refresh Web Development//Helios Calendar//EN
X-FROM-URL:https://www.bayareascience.org/calendar/index.php?com=details&eID=33219
X-WR-RELCALID:BayAreaScience.org The Deep Synoptic Array: fast radio burst probes of the unseen universe 20230307T153000
X-WR-TIMEZONE:America/New_York
X-WR-CALNAME:BayAreaScience.org
BEGIN:VEVENT
URL;VALUE=URI:https://www.bayareascience.org/calendar/index.php?com=detail&eID=33219
DTSTART:20230307T153000
DTEND:20230307T163000
SUMMARY:The Deep Synoptic Array: fast radio burst probes of the unseen universe
DESCRIPTION:The origins of fast radio bursts (FRBs) at extragalactic distances remain shrouded in mystery. FRBs nonetheless form exquisite tracers of the contents and physical conditions of baryons along their...\n______________________________\nThis Event Downloaded From a Helios Calendar Powered Site
LOCATION:Hewlett Teaching Center - 370 Jane Stanford Way\, Room 201 Stanford University\, Stanford\, CA  94305
CATEGORIES:BayAreaScience.org Events
PRIORITY:0
TRANSP:TRANSPARENT
END:VEVENT
END:VCALENDAR