BEGIN:VCALENDAR
VERSION:2.0
METHOD:PUBLISH
CALSCALE:GREGORIAN
PRODID:-//Refresh Web Development//Helios Calendar//EN
X-FROM-URL:https://www.bayareascience.org/calendar/index.php?com=details&eID=33221
X-WR-RELCALID:BayAreaScience.org The Fermi Gamma-ray Space Telescope at 15: Observing the Vibrant Universe 20230221T153000
X-WR-TIMEZONE:America/New_York
X-WR-CALNAME:BayAreaScience.org
BEGIN:VEVENT
URL;VALUE=URI:https://www.bayareascience.org/calendar/index.php?com=detail&eID=33221
DTSTART:20230221T153000
DTEND:20230221T163000
SUMMARY:The Fermi Gamma-ray Space Telescope at 15: Observing the Vibrant Universe
DESCRIPTION:The Fermi Gamma-Ray Space Telescopeâ€™s Large Area Telescope (LAT)\, initially conceived of in the 1990â€™s here at Stanford and SLAC\, was designed\, built and is operated by an international...\n______________________________\nThis Event Downloaded From a Helios Calendar Powered Site
LOCATION:Hewlett Teaching Center - 370 Jane Stanford Way\, Room 201 Stanford University\, Stanford\, CA  94305
CATEGORIES:BayAreaScience.org Events
PRIORITY:0
TRANSP:TRANSPARENT
END:VEVENT
END:VCALENDAR