BEGIN:VCALENDAR
VERSION:2.0
METHOD:PUBLISH
CALSCALE:GREGORIAN
PRODID:-//Refresh Web Development//Helios Calendar//EN
X-FROM-URL:https://www.bayareascience.org/calendar/index.php?com=details&eID=33225
X-WR-RELCALID:BayAreaScience.org The Hitchhiker's Guide to Terrestriality: Exploring Sea-to-Land Transitions in Decapod Crabs 20221202T120000
X-WR-TIMEZONE:America/New_York
X-WR-CALNAME:BayAreaScience.org
BEGIN:VEVENT
URL;VALUE=URI:https://www.bayareascience.org/calendar/index.php?com=detail&eID=33225
DTSTART:20221202T120000
DTEND:20221202T120000
SUMMARY:The Hitchhiker's Guide to Terrestriality: Exploring Sea-to-Land Transitions in Decapod Crabs
DESCRIPTION:\n______________________________\nThis Event Downloaded From a Helios Calendar Powered Site
LOCATION:Hopkins Marine Station - 120 Ocean View Blvd \, Pacific Grove\, CA  93950
CATEGORIES:BayAreaScience.org Events
PRIORITY:0
TRANSP:TRANSPARENT
END:VEVENT
END:VCALENDAR