BEGIN:VCALENDAR
VERSION:2.0
METHOD:PUBLISH
CALSCALE:GREGORIAN
PRODID:-//Refresh Web Development//Helios Calendar//EN
X-FROM-URL:https://www.bayareascience.org/calendar/index.php?com=details&eID=33234
X-WR-RELCALID:BayAreaScience.org Family Nature Walks - Baylands Nature Preserve 20230520T103000
X-WR-TIMEZONE:America/New_York
X-WR-CALNAME:BayAreaScience.org
BEGIN:VEVENT
URL;VALUE=URI:https://www.bayareascience.org/calendar/index.php?com=detail&eID=33234
DTSTART:20230520T103000
DTEND:20230520T120000
SUMMARY:Family Nature Walks - Baylands Nature Preserve
DESCRIPTION:Environmental Volunteersâ€™ Family Nature Walks program is designed to help students and their families get to know our local open space areas. Small family groups will be guided by a knowledgeable...\n______________________________\nThis Event Downloaded From a Helios Calendar Powered Site
LOCATION:Palo Alto Baylands Nature Preserve - 2560 Embarcadero Rd \, Palo Alto\, CA  94303
CATEGORIES:BayAreaScience.org Events
PRIORITY:0
TRANSP:TRANSPARENT
END:VEVENT
END:VCALENDAR