BEGIN:VCALENDAR
VERSION:2.0
METHOD:PUBLISH
CALSCALE:GREGORIAN
PRODID:-//Refresh Web Development//Helios Calendar//EN
X-FROM-URL:https://www.bayareascience.org/calendar/index.php?com=details&eID=33245
X-WR-RELCALID:BayAreaScience.org Plate Tectonics - EcoCenter Family Event 20230603T143000
X-WR-TIMEZONE:America/New_York
X-WR-CALNAME:BayAreaScience.org
BEGIN:VEVENT
URL;VALUE=URI:https://www.bayareascience.org/calendar/index.php?com=detail&eID=33245
DTSTART:20230603T143000
DTEND:20230603T160000
SUMMARY:Plate Tectonics - EcoCenter Family Event
DESCRIPTION:Bring your family to the Environmental Volunteers EcoCenter\, located on the Baylands Nature Preserve\, for an afternoon of environmental education. Activities are intended for ages 6-11.What...\n______________________________\nThis Event Downloaded From a Helios Calendar Powered Site
LOCATION:Environmental Volunteers EcoCenter - 2560 Embarcadero Road \, Palo Alto\, CA  94303
CATEGORIES:BayAreaScience.org Events
PRIORITY:0
TRANSP:TRANSPARENT
END:VEVENT
END:VCALENDAR