BEGIN:VCALENDAR
VERSION:2.0
METHOD:PUBLISH
CALSCALE:GREGORIAN
PRODID:-//Refresh Web Development//Helios Calendar//EN
X-FROM-URL:https://www.bayareascience.org/calendar/index.php?com=details&eID=33246
X-WR-RELCALID:BayAreaScience.org  Serving Health: How California Can Usher in the Future of Food-based Interventions in Medi-Cal  - Livestream 20230209T170000
X-WR-TIMEZONE:America/New_York
X-WR-CALNAME:BayAreaScience.org
BEGIN:VEVENT
URL;VALUE=URI:https://www.bayareascience.org/calendar/index.php?com=detail&eID=33246
DTSTART:20230209T170000
DTEND:20230209T180000
SUMMARY: Serving Health: How California Can Usher in the Future of Food-based Interventions in Medi-Cal  - Livestream
DESCRIPTION:Medically supportive food and nutrition interventions such as produce prescriptions\, food...\n______________________________\nThis Event Downloaded From a Helios Calendar Powered Site
LOCATION:SF Planning + Urban Research Assoc. (SPUR) -  \, \, CA  
CATEGORIES:BayAreaScience.org Events
PRIORITY:0
TRANSP:TRANSPARENT
END:VEVENT
END:VCALENDAR