BEGIN:VCALENDAR
VERSION:2.0
METHOD:PUBLISH
CALSCALE:GREGORIAN
PRODID:-//Refresh Web Development//Helios Calendar//EN
X-FROM-URL:https://www.bayareascience.org/calendar/index.php?com=details&eID=33252
X-WR-RELCALID:BayAreaScience.org  Stefan Rahmstorf: The 2022 Stephen H. Schneider Award for Outstanding Climate Science Communication - Livestream 20221209T100000
X-WR-TIMEZONE:America/New_York
X-WR-CALNAME:BayAreaScience.org
BEGIN:VEVENT
URL;VALUE=URI:https://www.bayareascience.org/calendar/index.php?com=detail&eID=33252
DTSTART:20221209T100000
DTEND:20221209T160000
SUMMARY: Stefan Rahmstorf: The 2022 Stephen H. Schneider Award for Outstanding Climate Science Communication - Livestream
DESCRIPTION:\n______________________________\nThis Event Downloaded From a Helios Calendar Powered Site
LOCATION:Commonwealth Club - Online Event -  \, \, CA  
CATEGORIES:BayAreaScience.org Events
PRIORITY:0
TRANSP:TRANSPARENT
END:VEVENT
END:VCALENDAR