BEGIN:VCALENDAR
VERSION:2.0
METHOD:PUBLISH
CALSCALE:GREGORIAN
PRODID:-//Refresh Web Development//Helios Calendar//EN
X-FROM-URL:https://www.bayareascience.org/calendar/index.php?com=details&eID=33255
X-WR-RELCALID:BayAreaScience.org 2022 TeenTechSF Global Youth Summit - Innovation: Forging Our Youth-Empowered Future 20221210T090000
X-WR-TIMEZONE:America/New_York
X-WR-CALNAME:BayAreaScience.org
BEGIN:VEVENT
URL;VALUE=URI:https://www.bayareascience.org/calendar/index.php?com=detail&eID=33255
DTSTART:20221210T090000
DTEND:20221210T120000
SUMMARY:2022 TeenTechSF Global Youth Summit - Innovation: Forging Our Youth-Empowered Future
DESCRIPTION:All are welcome! Action-packed morning connecting teens with tech leaders here in the Bay Area and around the world for 150 students\, mentors\, and families from diverse communities to listen to...\n______________________________\nThis Event Downloaded From a Helios Calendar Powered Site
LOCATION:TBA -  \, San Francisco\, CA  
CATEGORIES:BayAreaScience.org Events
PRIORITY:0
TRANSP:TRANSPARENT
END:VEVENT
END:VCALENDAR