BEGIN:VCALENDAR
VERSION:2.0
METHOD:PUBLISH
CALSCALE:GREGORIAN
PRODID:-//Refresh Web Development//Helios Calendar//EN
X-FROM-URL:https://www.bayareascience.org/calendar/index.php?com=details&eID=33256
X-WR-RELCALID:BayAreaScience.org After Dark: Fire of Love, Presented by National Geographic Documentary Films 20221208T180000
X-WR-TIMEZONE:America/New_York
X-WR-CALNAME:BayAreaScience.org
BEGIN:VEVENT
URL;VALUE=URI:https://www.bayareascience.org/calendar/index.php?com=detail&eID=33256
DTSTART:20221208T180000
DTEND:20221208T220000
SUMMARY:After Dark: Fire of Love\, Presented by National Geographic Documentary Films
DESCRIPTION:Join us for a night fueled by fire and marked by molten rock. Enjoy a special screening of the National Geographic Documentary Film Fire of Love\, which follows...\n______________________________\nThis Event Downloaded From a Helios Calendar Powered Site
LOCATION:ExplOratorium - Pier 15 (Embarcadero at Green Street)  \, San Francisco\, CA USA 94111
CATEGORIES:BayAreaScience.org Events
PRIORITY:0
TRANSP:TRANSPARENT
END:VEVENT
END:VCALENDAR