BEGIN:VCALENDAR
VERSION:2.0
METHOD:PUBLISH
CALSCALE:GREGORIAN
PRODID:-//Refresh Web Development//Helios Calendar//EN
X-FROM-URL:https://www.bayareascience.org/calendar/index.php?com=details&eID=33258
X-WR-RELCALID:BayAreaScience.org Glider Discovery Day 20230118T150000
X-WR-TIMEZONE:America/New_York
X-WR-CALNAME:BayAreaScience.org
BEGIN:VEVENT
URL;VALUE=URI:https://www.bayareascience.org/calendar/index.php?com=detail&eID=33258
DTSTART:20230118T150000
DTEND:20230118T160000
SUMMARY:Glider Discovery Day
DESCRIPTION:Discover the world of flight in a special outdoor family event!Learn the names of the different parts of the airplane\, then join in the fun the help build a full-size Penguin airplane!Â ...\n______________________________\nThis Event Downloaded From a Helios Calendar Powered Site
LOCATION:Hiller Aviation Museum - 601 Skyway Rd. \, San Carlos\, CA  94070
CATEGORIES:BayAreaScience.org Events
PRIORITY:0
TRANSP:TRANSPARENT
END:VEVENT
END:VCALENDAR