BEGIN:VCALENDAR
VERSION:2.0
METHOD:PUBLISH
CALSCALE:GREGORIAN
PRODID:-//Refresh Web Development//Helios Calendar//EN
X-FROM-URL:https://www.bayareascience.org/calendar/index.php?com=details&eID=33264
X-WR-RELCALID:BayAreaScience.org Traumatic Brain Injury, Art, and Nature - Livestream 20221214T120000
X-WR-TIMEZONE:America/New_York
X-WR-CALNAME:BayAreaScience.org
BEGIN:VEVENT
URL;VALUE=URI:https://www.bayareascience.org/calendar/index.php?com=detail&eID=33264
DTSTART:20221214T120000
DTEND:20221214T130000
SUMMARY:Traumatic Brain Injury\, Art\, and Nature - Livestream
DESCRIPTION:Join John Muir Laws and Celeste Palmer\, founder and President of Bridging the Gap Connecting Traumatic Brain Injury Survivors\, for a discussion of art\, nature\, and healing.Art and nature...\n______________________________\nThis Event Downloaded From a Helios Calendar Powered Site
LOCATION:John Muir Laws Nature Journal Educators Forum -  \, \, CA  
CATEGORIES:BayAreaScience.org Events
PRIORITY:0
TRANSP:TRANSPARENT
END:VEVENT
END:VCALENDAR