BEGIN:VCALENDAR
VERSION:2.0
METHOD:PUBLISH
CALSCALE:GREGORIAN
PRODID:-//Refresh Web Development//Helios Calendar//EN
X-FROM-URL:https://www.bayareascience.org/calendar/index.php?com=details&eID=33266
X-WR-RELCALID:BayAreaScience.org Wonderfest: Going to the Stars - The First Mission to Proxima Centauri 20230109T190000
X-WR-TIMEZONE:America/New_York
X-WR-CALNAME:BayAreaScience.org
BEGIN:VEVENT
URL;VALUE=URI:https://www.bayareascience.org/calendar/index.php?com=detail&eID=33266
DTSTART:20230109T190000
DTEND:20230109T203000
SUMMARY:Wonderfest: Going to the Stars - The First Mission to Proxima Centauri
DESCRIPTION:The stars beckon. Alas\, interstellar...\n______________________________\nThis Event Downloaded From a Helios Calendar Powered Site
LOCATION:Castro Valley Library - 3600 Norbridge Ave \, Castro Valley\, CA USA 94546
CATEGORIES:BayAreaScience.org Events
PRIORITY:0
TRANSP:TRANSPARENT
END:VEVENT
END:VCALENDAR