BEGIN:VCALENDAR
VERSION:2.0
METHOD:PUBLISH
CALSCALE:GREGORIAN
PRODID:-//Refresh Web Development//Helios Calendar//EN
X-FROM-URL:https://www.bayareascience.org/calendar/index.php?com=details&eID=33268
X-WR-RELCALID:BayAreaScience.org Wild In Marin - Third Annual Fungus Festival 20230121T100000
X-WR-TIMEZONE:America/New_York
X-WR-CALNAME:BayAreaScience.org
BEGIN:VEVENT
URL;VALUE=URI:https://www.bayareascience.org/calendar/index.php?com=detail&eID=33268
DTSTART:20230121T100000
DTEND:20230121T170000
SUMMARY:Wild In Marin - Third Annual Fungus Festival
DESCRIPTION:This wonderful event will engage\, entertain\, and educate the community about the benefits\, joys\, and culinary values of fungi!\n______________________________\nThis Event Downloaded From a Helios Calendar Powered Site
LOCATION:Mill Valley Community Center - 180 Camino Alto \, Mill Valley\, CA  94941
CATEGORIES:BayAreaScience.org Events
PRIORITY:0
TRANSP:TRANSPARENT
END:VEVENT
END:VCALENDAR