BEGIN:VCALENDAR
VERSION:2.0
METHOD:PUBLISH
CALSCALE:GREGORIAN
PRODID:-//Refresh Web Development//Helios Calendar//EN
X-FROM-URL:https://www.bayareascience.org/calendar/index.php?com=details&eID=33275
X-WR-RELCALID:BayAreaScience.org Realtime Machine Learning and End-to-end ML Platform 20221213T180000
X-WR-TIMEZONE:America/New_York
X-WR-CALNAME:BayAreaScience.org
BEGIN:VEVENT
URL;VALUE=URI:https://www.bayareascience.org/calendar/index.php?com=detail&eID=33275
DTSTART:20221213T180000
DTEND:20221213T203000
SUMMARY:Realtime Machine Learning and End-to-end ML Platform
DESCRIPTION:Tech Talk 1: Seven Reasons Why Realtime ML Is Here to Stay. Abstract: Machine Learning is being adopted and validated by an increasing number...\n______________________________\nThis Event Downloaded From a Helios Calendar Powered Site
LOCATION:Z-Park Silicon Valley Innovation Center - 4500 Great America Parkway \, Santa Clara\, CA  95054
CATEGORIES:BayAreaScience.org Events
PRIORITY:0
TRANSP:TRANSPARENT
END:VEVENT
END:VCALENDAR