BEGIN:VCALENDAR
VERSION:2.0
METHOD:PUBLISH
CALSCALE:GREGORIAN
PRODID:-//Refresh Web Development//Helios Calendar//EN
X-FROM-URL:https://www.bayareascience.org/calendar/index.php?com=details&eID=33283
X-WR-RELCALID:BayAreaScience.org Farm to Table: Busting the Myths of our Food Systems - Livestream 20230125T190000
X-WR-TIMEZONE:America/New_York
X-WR-CALNAME:BayAreaScience.org
BEGIN:VEVENT
URL;VALUE=URI:https://www.bayareascience.org/calendar/index.php?com=detail&eID=33283
DTSTART:20230125T190000
DTEND:20230125T203000
SUMMARY:Farm to Table: Busting the Myths of our Food Systems - Livestream
DESCRIPTION:Want to grow your knowledge of the agricultural industry? Join Dr. Sarah Taber to learn how our food systems came to beDr. Sarah Taber\,...\n______________________________\nThis Event Downloaded From a Helios Calendar Powered Site
LOCATION:City of Sunnyvale -  \, \, CA  
CATEGORIES:BayAreaScience.org Events
PRIORITY:0
TRANSP:TRANSPARENT
END:VEVENT
END:VCALENDAR