BEGIN:VCALENDAR
VERSION:2.0
METHOD:PUBLISH
CALSCALE:GREGORIAN
PRODID:-//Refresh Web Development//Helios Calendar//EN
X-FROM-URL:https://www.bayareascience.org/calendar/index.php?com=details&eID=33285
X-WR-RELCALID:BayAreaScience.org Bioluminescent and Fluorescent Fungi - Livestream 20221215T180000
X-WR-TIMEZONE:America/New_York
X-WR-CALNAME:BayAreaScience.org
BEGIN:VEVENT
URL;VALUE=URI:https://www.bayareascience.org/calendar/index.php?com=detail&eID=33285
DTSTART:20221215T180000
DTEND:20221215T180000
SUMMARY:Bioluminescent and Fluorescent Fungi - Livestream
DESCRIPTION:Alan Rockefeller is a mycologist living in Oakland\, California. He spends half the year hunting mushrooms in Mexico where he documents a wide variety of fungal species. His experience in the field...\n______________________________\nThis Event Downloaded From a Helios Calendar Powered Site
LOCATION:Sonoma County Mycological Association -  \, \, CA  
CATEGORIES:BayAreaScience.org Events
PRIORITY:0
TRANSP:TRANSPARENT
END:VEVENT
END:VCALENDAR