BEGIN:VCALENDAR
VERSION:2.0
METHOD:PUBLISH
CALSCALE:GREGORIAN
PRODID:-//Refresh Web Development//Helios Calendar//EN
X-FROM-URL:https://www.bayareascience.org/calendar/index.php?com=details&eID=33289
X-WR-RELCALID:BayAreaScience.org Biotech for the Future - Intersection of Food and Health Tech 20230111T170000
X-WR-TIMEZONE:America/New_York
X-WR-CALNAME:BayAreaScience.org
BEGIN:VEVENT
URL;VALUE=URI:https://www.bayareascience.org/calendar/index.php?com=detail&eID=33289
DTSTART:20230111T170000
DTEND:20230111T200000
SUMMARY:Biotech for the Future - Intersection of Food and Health Tech
DESCRIPTION:Join us for a Panel Discussion covering topics of Food and Health Care technology. The panel will be followed by networking.Drinks and light snacks will be provided.The future of food is...\n______________________________\nThis Event Downloaded From a Helios Calendar Powered Site
LOCATION:swissnex San Francisco - The Embarcadero Pier 17\, Suite 800\, San Francisco\, CA  94111
CATEGORIES:BayAreaScience.org Events
PRIORITY:0
TRANSP:TRANSPARENT
END:VEVENT
END:VCALENDAR