BEGIN:VCALENDAR
VERSION:2.0
METHOD:PUBLISH
CALSCALE:GREGORIAN
PRODID:-//Refresh Web Development//Helios Calendar//EN
X-FROM-URL:https://www.bayareascience.org/calendar/index.php?com=details&eID=33296
X-WR-RELCALID:BayAreaScience.org Longevity Business and Science 20230112T180000
X-WR-TIMEZONE:America/New_York
X-WR-CALNAME:BayAreaScience.org
BEGIN:VEVENT
URL;VALUE=URI:https://www.bayareascience.org/calendar/index.php?com=detail&eID=33296
DTSTART:20230112T180000
DTEND:20230112T200000
SUMMARY:Longevity Business and Science
DESCRIPTION:Join scientists and entrepreneurs in learning about and discussing the future of biotechnology & longevity-inspired medicine.Feast your mind while fueling...\n______________________________\nThis Event Downloaded From a Helios Calendar Powered Site
LOCATION:The Green Room - 401 Van Ness Ave \, San Francisco\, CA  94102
CATEGORIES:BayAreaScience.org Events
PRIORITY:0
TRANSP:TRANSPARENT
END:VEVENT
END:VCALENDAR