BEGIN:VCALENDAR
VERSION:2.0
METHOD:PUBLISH
CALSCALE:GREGORIAN
PRODID:-//Refresh Web Development//Helios Calendar//EN
X-FROM-URL:https://www.bayareascience.org/calendar/index.php?com=details&eID=33297
X-WR-RELCALID:BayAreaScience.org After Dark: See for Yourself 20221229T180000
X-WR-TIMEZONE:America/New_York
X-WR-CALNAME:BayAreaScience.org
BEGIN:VEVENT
URL;VALUE=URI:https://www.bayareascience.org/calendar/index.php?com=detail&eID=33297
DTSTART:20221229T180000
DTEND:20221229T220000
SUMMARY:After Dark: See for Yourself
DESCRIPTION:The Exploratorium is your playground after dark! Wander the galleries\, sip a cocktail\, and let a DJ from Hip Hop for Change set the vibe. The end of the year is a time for reflection and celebration...\n______________________________\nThis Event Downloaded From a Helios Calendar Powered Site
LOCATION:ExplOratorium - Pier 15 (Embarcadero at Green Street)  \, San Francisco\, CA USA 94111
CATEGORIES:BayAreaScience.org Events
PRIORITY:0
TRANSP:TRANSPARENT
END:VEVENT
END:VCALENDAR