BEGIN:VCALENDAR
VERSION:2.0
METHOD:PUBLISH
CALSCALE:GREGORIAN
PRODID:-//Refresh Web Development//Helios Calendar//EN
X-FROM-URL:https://www.bayareascience.org/calendar/index.php?com=details&eID=33301
X-WR-RELCALID:BayAreaScience.org King Tide Bair Island Interpretive Walk 20230120T100000
X-WR-TIMEZONE:America/New_York
X-WR-CALNAME:BayAreaScience.org
BEGIN:VEVENT
URL;VALUE=URI:https://www.bayareascience.org/calendar/index.php?com=detail&eID=33301
DTSTART:20230120T100000
DTEND:20230120T113000
SUMMARY:King Tide Bair Island Interpretive Walk
DESCRIPTION:Learn about this beautiful protected space\, and join us for a walking tour of Bair Island during the King Tide! Led by docent Vicki Martell\, this hike will take...\n______________________________\nThis Event Downloaded From a Helios Calendar Powered Site
LOCATION:Bair Island Wildlife Refuge & Trail - 3 Uccelli Blvd \, Redwood City\, CA  94063
CATEGORIES:BayAreaScience.org Events
PRIORITY:0
TRANSP:TRANSPARENT
END:VEVENT
END:VCALENDAR