BEGIN:VCALENDAR
VERSION:2.0
METHOD:PUBLISH
CALSCALE:GREGORIAN
PRODID:-//Refresh Web Development//Helios Calendar//EN
X-FROM-URL:https://www.bayareascience.org/calendar/index.php?com=details&eID=33302
X-WR-RELCALID:BayAreaScience.org First results from the LUX-ZEPLIN dark matter search 20230123T161500
X-WR-TIMEZONE:America/New_York
X-WR-CALNAME:BayAreaScience.org
BEGIN:VEVENT
URL;VALUE=URI:https://www.bayareascience.org/calendar/index.php?com=detail&eID=33302
DTSTART:20230123T161500
DTEND:20230123T171500
SUMMARY:First results from the LUX-ZEPLIN dark matter search
DESCRIPTION:Unveiling the true nature of dark matter is one of the most significant challenges in modern particle physics and astrophysics. Determination of the dark matter particle mass and interactions will...\n______________________________\nThis Event Downloaded From a Helios Calendar Powered Site
LOCATION:Physics North - UC Berkeley Room 1\, Berkeley\, CA  94720
CATEGORIES:BayAreaScience.org Events
PRIORITY:0
TRANSP:TRANSPARENT
END:VEVENT
END:VCALENDAR