BEGIN:VCALENDAR
VERSION:2.0
METHOD:PUBLISH
CALSCALE:GREGORIAN
PRODID:-//Refresh Web Development//Helios Calendar//EN
X-FROM-URL:https://www.bayareascience.org/calendar/index.php?com=details&eID=33303
X-WR-RELCALID:BayAreaScience.org The Dawn of the Quantum Computing Era 20230130T161500
X-WR-TIMEZONE:America/New_York
X-WR-CALNAME:BayAreaScience.org
BEGIN:VEVENT
URL;VALUE=URI:https://www.bayareascience.org/calendar/index.php?com=detail&eID=33303
DTSTART:20230130T161500
DTEND:20230130T171500
SUMMARY:The Dawn of the Quantum Computing Era
DESCRIPTION:Quantum mechanics describes the physical world around us with exquisite precision\, with no known violations of the theory. Ironically\, this precision comes with some additional baggage: the theory...\n______________________________\nThis Event Downloaded From a Helios Calendar Powered Site
LOCATION:Physics North - UC Berkeley Room 1\, Berkeley\, CA  94720
CATEGORIES:BayAreaScience.org Events
PRIORITY:0
TRANSP:TRANSPARENT
END:VEVENT
END:VCALENDAR