BEGIN:VCALENDAR
VERSION:2.0
METHOD:PUBLISH
CALSCALE:GREGORIAN
PRODID:-//Refresh Web Development//Helios Calendar//EN
X-FROM-URL:https://www.bayareascience.org/calendar/index.php?com=details&eID=33306
X-WR-RELCALID:BayAreaScience.org Tracking the motion of electrons, atoms, and molecules in strong laser fields 20230227T161500
X-WR-TIMEZONE:America/New_York
X-WR-CALNAME:BayAreaScience.org
BEGIN:VEVENT
URL;VALUE=URI:https://www.bayareascience.org/calendar/index.php?com=detail&eID=33306
DTSTART:20230227T161500
DTEND:20230227T171500
SUMMARY:Tracking the motion of electrons\, atoms\, and molecules in strong laser fields
DESCRIPTION:Excitation of atoms and molecules by intense ultrafast lasers produces quantum tunneling of several electrons on femtosecond timescales\, which can lead to attosecond electron bursts and coulomb...\n______________________________\nThis Event Downloaded From a Helios Calendar Powered Site
LOCATION:Physics North - UC Berkeley Room 1\, Berkeley\, CA  94720
CATEGORIES:BayAreaScience.org Events
PRIORITY:0
TRANSP:TRANSPARENT
END:VEVENT
END:VCALENDAR