BEGIN:VCALENDAR
VERSION:2.0
METHOD:PUBLISH
CALSCALE:GREGORIAN
PRODID:-//Refresh Web Development//Helios Calendar//EN
X-FROM-URL:https://www.bayareascience.org/calendar/index.php?com=details&eID=33308
X-WR-RELCALID:BayAreaScience.org Improving Detection of Gravitational Waves using Condensed Matter Physics: Understanding Entropy and Defects in Amorphous Materials 20230320T161500
X-WR-TIMEZONE:America/New_York
X-WR-CALNAME:BayAreaScience.org
BEGIN:VEVENT
URL;VALUE=URI:https://www.bayareascience.org/calendar/index.php?com=detail&eID=33308
DTSTART:20230320T161500
DTEND:20230320T171500
SUMMARY:Improving Detection of Gravitational Waves using Condensed Matter Physics: Understanding Entropy and Defects in Amorphous Materials
DESCRIPTION:Gravitational waves are ripples in space-time that produce a time-dependent strain\, in which distances are compressed in one direction and stretched in the perpendicular direction. Their detection...\n______________________________\nThis Event Downloaded From a Helios Calendar Powered Site
LOCATION:Physics North - UC Berkeley Room 1\, Berkeley\, CA  94720
CATEGORIES:BayAreaScience.org Events
PRIORITY:0
TRANSP:TRANSPARENT
END:VEVENT
END:VCALENDAR