BEGIN:VCALENDAR
VERSION:2.0
METHOD:PUBLISH
CALSCALE:GREGORIAN
PRODID:-//Refresh Web Development//Helios Calendar//EN
X-FROM-URL:https://www.bayareascience.org/calendar/index.php?com=details&eID=33311
X-WR-RELCALID:BayAreaScience.org UC Berkeley Physics Colloquia 20230410T161500
X-WR-TIMEZONE:America/New_York
X-WR-CALNAME:BayAreaScience.org
BEGIN:VEVENT
URL;VALUE=URI:https://www.bayareascience.org/calendar/index.php?com=detail&eID=33311
DTSTART:20230410T161500
DTEND:20230410T171500
SUMMARY:UC Berkeley Physics Colloquia
DESCRIPTION:Neutrons are stable inside atomic nuclei. Outside the confines of the nucleus\, they decay into a proton\, electron\, and antineutrino\, with a lifetime of approximately 880 s. The rate of decay can...\n______________________________\nThis Event Downloaded From a Helios Calendar Powered Site
LOCATION:Physics North - UC Berkeley Room 1\, Berkeley\, CA  94720
CATEGORIES:BayAreaScience.org Events
PRIORITY:0
TRANSP:TRANSPARENT
END:VEVENT
END:VCALENDAR