BEGIN:VCALENDAR
VERSION:2.0
METHOD:PUBLISH
CALSCALE:GREGORIAN
PRODID:-//Refresh Web Development//Helios Calendar//EN
X-FROM-URL:https://www.bayareascience.org/calendar/index.php?com=details&eID=33318
X-WR-RELCALID:BayAreaScience.org Black Hole Monsters at the Centers of Galaxies - Livestream 20230107T200000
X-WR-TIMEZONE:America/New_York
X-WR-CALNAME:BayAreaScience.org
BEGIN:VEVENT
URL;VALUE=URI:https://www.bayareascience.org/calendar/index.php?com=detail&eID=33318
DTSTART:20230107T200000
DTEND:20230107T213000
SUMMARY:Black Hole Monsters at the Centers of Galaxies - Livestream
DESCRIPTION:Ironically\, black holes create the most luminous objects in the universe. The speaker studies super-massive black holes at the centers of galaxies\, and is a member of a team that has imaged the...\n______________________________\nThis Event Downloaded From a Helios Calendar Powered Site
LOCATION:San Jose Astronomical Society -  \, \, CA  
CATEGORIES:BayAreaScience.org Events
PRIORITY:0
TRANSP:TRANSPARENT
END:VEVENT
END:VCALENDAR