BEGIN:VCALENDAR
VERSION:2.0
METHOD:PUBLISH
CALSCALE:GREGORIAN
PRODID:-//Refresh Web Development//Helios Calendar//EN
X-FROM-URL:https://www.bayareascience.org/calendar/index.php?com=details&eID=33323
X-WR-RELCALID:BayAreaScience.org Biohackers Pandemic Chat - Livestream 20230107T100000
X-WR-TIMEZONE:America/New_York
X-WR-CALNAME:BayAreaScience.org
BEGIN:VEVENT
URL;VALUE=URI:https://www.bayareascience.org/calendar/index.php?com=detail&eID=33323
DTSTART:20230107T100000
DTEND:20230107T110000
SUMMARY:Biohackers Pandemic Chat - Livestream
DESCRIPTION:Wondering when this Covid thing is ever going to end? Want to know what is going on in China right now? And what about that Monkey Pox? Join members from local community labs Counter Culture Labs...\n______________________________\nThis Event Downloaded From a Helios Calendar Powered Site
LOCATION:Counter Culture Labs -  \, \, CA  
CATEGORIES:BayAreaScience.org Events
PRIORITY:0
TRANSP:TRANSPARENT
END:VEVENT
END:VCALENDAR