BEGIN:VCALENDAR
VERSION:2.0
METHOD:PUBLISH
CALSCALE:GREGORIAN
PRODID:-//Refresh Web Development//Helios Calendar//EN
X-FROM-URL:https://www.bayareascience.org/calendar/index.php?com=details&eID=33326
X-WR-RELCALID:BayAreaScience.org Low Tech Oyster Mushroom Cultivation Workshop 20230108T170000
X-WR-TIMEZONE:America/New_York
X-WR-CALNAME:BayAreaScience.org
BEGIN:VEVENT
URL;VALUE=URI:https://www.bayareascience.org/calendar/index.php?com=detail&eID=33326
DTSTART:20230108T170000
DTEND:20230108T200000
SUMMARY:Low Tech Oyster Mushroom Cultivation Workshop
DESCRIPTION:Join us to observe an oyster mushroom cultivation workhop and learn how to easily produce fresh oyster mushrooms at home without using sterilization.Video will be streamed on...\n______________________________\nThis Event Downloaded From a Helios Calendar Powered Site
LOCATION:Counter Culture Labs - Omni Oakland Commons 4799 Shattuck Ave\, Oakland\, CA USA 94609
CATEGORIES:BayAreaScience.org Events
PRIORITY:0
TRANSP:TRANSPARENT
END:VEVENT
END:VCALENDAR