BEGIN:VCALENDAR
VERSION:2.0
METHOD:PUBLISH
CALSCALE:GREGORIAN
PRODID:-//Refresh Web Development//Helios Calendar//EN
X-FROM-URL:https://www.bayareascience.org/calendar/index.php?com=details&eID=33331
X-WR-RELCALID:BayAreaScience.org NightLife: Noise Pop 20230216T180000
X-WR-TIMEZONE:America/New_York
X-WR-CALNAME:BayAreaScience.org
BEGIN:VEVENT
URL;VALUE=URI:https://www.bayareascience.org/calendar/index.php?com=detail&eID=33331
DTSTART:20230216T180000
DTEND:20230216T220000
SUMMARY:NightLife: Noise Pop
DESCRIPTION:Get ready to make some NOISE at the official NightLife Noise Pop Music Fest pre-party! With a headlining...\n______________________________\nThis Event Downloaded From a Helios Calendar Powered Site
LOCATION:California Academy of Sciences - 55 Music Concourse Dr. \, San Francisco\, CA USA 94118
CATEGORIES:BayAreaScience.org Events
PRIORITY:0
TRANSP:TRANSPARENT
END:VEVENT
END:VCALENDAR