BEGIN:VCALENDAR
VERSION:2.0
METHOD:PUBLISH
CALSCALE:GREGORIAN
PRODID:-//Refresh Web Development//Helios Calendar//EN
X-FROM-URL:https://www.bayareascience.org/calendar/index.php?com=details&eID=33336
X-WR-RELCALID:BayAreaScience.org  SETI Live: What's Coming in 2023 - Livestream 20230104T143000
X-WR-TIMEZONE:America/New_York
X-WR-CALNAME:BayAreaScience.org
BEGIN:VEVENT
URL;VALUE=URI:https://www.bayareascience.org/calendar/index.php?com=detail&eID=33336
DTSTART:20230104T143000
DTEND:20230104T150000
SUMMARY: SETI Live: What's Coming in 2023 - Livestream
DESCRIPTION:We have to admit that 2022 was an impressive year for space science\, what with JWST starting to collect science data and even releasing early results\, the launch and...\n______________________________\nThis Event Downloaded From a Helios Calendar Powered Site
LOCATION:SETI Institute -  \, \, CA  
CATEGORIES:BayAreaScience.org Events
PRIORITY:0
TRANSP:TRANSPARENT
END:VEVENT
END:VCALENDAR