BEGIN:VCALENDAR
VERSION:2.0
METHOD:PUBLISH
CALSCALE:GREGORIAN
PRODID:-//Refresh Web Development//Helios Calendar//EN
X-FROM-URL:https://www.bayareascience.org/calendar/index.php?com=details&eID=33338
X-WR-RELCALID:BayAreaScience.org A Royal Walk with the King Tide Along the Embarcadero 20230121T100000
X-WR-TIMEZONE:America/New_York
X-WR-CALNAME:BayAreaScience.org
BEGIN:VEVENT
URL;VALUE=URI:https://www.bayareascience.org/calendar/index.php?com=detail&eID=33338
DTSTART:20230121T100000
DTEND:20230121T110000
SUMMARY:A Royal Walk with the King Tide Along the Embarcadero
DESCRIPTION:Join Exploratorium and Port of San Francisco staff for a short stroll along the San Francisco waterfront to observe\, photograph\, and discuss the King Tides. â€œKing Tideâ€ is a popular\,...\n______________________________\nThis Event Downloaded From a Helios Calendar Powered Site
LOCATION:Between Piers 3 and 5 - The Embarcadero \, San Francisco\, CA  94111
CATEGORIES:BayAreaScience.org Events
PRIORITY:0
TRANSP:TRANSPARENT
END:VEVENT
END:VCALENDAR