BEGIN:VCALENDAR
VERSION:2.0
METHOD:PUBLISH
CALSCALE:GREGORIAN
PRODID:-//Refresh Web Development//Helios Calendar//EN
X-FROM-URL:https://www.bayareascience.org/calendar/index.php?com=details&eID=33340
X-WR-RELCALID:BayAreaScience.org Sea Level and Ice Sheet Stability During Past (and Future) Warming 20230112T120000
X-WR-TIMEZONE:America/New_York
X-WR-CALNAME:BayAreaScience.org
BEGIN:VEVENT
URL;VALUE=URI:https://www.bayareascience.org/calendar/index.php?com=detail&eID=33340
DTSTART:20230112T120000
DTEND:20230112T130000
SUMMARY:Sea Level and Ice Sheet Stability During Past (and Future) Warming
DESCRIPTION:Past warm periods are testing grounds for major ice sheetsâ€™ response to global warming. Stratigraphic evidence from the Bahamas from the most recent warm period\, the Last Interglacial at...\n______________________________\nThis Event Downloaded From a Helios Calendar Powered Site
LOCATION:Mitchell Earth Sciences Building (04-560) - 397 Panama Mall Stanford University\, Stanford\, CA  94305
CATEGORIES:BayAreaScience.org Events
PRIORITY:0
TRANSP:TRANSPARENT
END:VEVENT
END:VCALENDAR