BEGIN:VCALENDAR
VERSION:2.0
METHOD:PUBLISH
CALSCALE:GREGORIAN
PRODID:-//Refresh Web Development//Helios Calendar//EN
X-FROM-URL:https://www.bayareascience.org/calendar/index.php?com=details&eID=33341
X-WR-RELCALID:BayAreaScience.org Imaging Mantle Viscosity and Why it Matters for Ice Age Climate 20230113T120000
X-WR-TIMEZONE:America/New_York
X-WR-CALNAME:BayAreaScience.org
BEGIN:VEVENT
URL;VALUE=URI:https://www.bayareascience.org/calendar/index.php?com=detail&eID=33341
DTSTART:20230113T120000
DTEND:20230113T130000
SUMMARY:Imaging Mantle Viscosity and Why it Matters for Ice Age Climate
DESCRIPTION:I will present work that aims to constrain Earthâ€™s viscosityÂ based on sea level records and theÂ glacial isostatic adjustment (GIA) process. IÂ will show a local inference for the...\n______________________________\nThis Event Downloaded From a Helios Calendar Powered Site
LOCATION:Mitchell Earth Sciences Building (04-560) - 397 Panama Mall Stanford University\, Stanford\, CA  94305
CATEGORIES:BayAreaScience.org Events
PRIORITY:0
TRANSP:TRANSPARENT
END:VEVENT
END:VCALENDAR