BEGIN:VCALENDAR
VERSION:2.0
METHOD:PUBLISH
CALSCALE:GREGORIAN
PRODID:-//Refresh Web Development//Helios Calendar//EN
X-FROM-URL:https://www.bayareascience.org/calendar/index.php?com=details&eID=33348
X-WR-RELCALID:BayAreaScience.org  Planet Formation from a Dynamical Perspective - Rescheduled 20230107T190000
X-WR-TIMEZONE:America/New_York
X-WR-CALNAME:BayAreaScience.org
BEGIN:VEVENT
URL;VALUE=URI:https://www.bayareascience.org/calendar/index.php?com=detail&eID=33348
DTSTART:20230107T190000
DTEND:20230107T190000
SUMMARY: Planet Formation from a Dynamical Perspective - Rescheduled
DESCRIPTION:Recent observational advances have allowed the discovery of thousands of exoplanets and an initial characterization of their orbital and physical parameters. As this population has grown\, it is...\n______________________________\nThis Event Downloaded From a Helios Calendar Powered Site
LOCATION:Tri-Valley Stargazers - 1893 N. Vasco Rd Unitarian Universalist Church\, Livermore\, CA  94551
CATEGORIES:BayAreaScience.org Events
PRIORITY:0
TRANSP:TRANSPARENT
END:VEVENT
END:VCALENDAR