BEGIN:VCALENDAR
VERSION:2.0
METHOD:PUBLISH
CALSCALE:GREGORIAN
PRODID:-//Refresh Web Development//Helios Calendar//EN
X-FROM-URL:https://www.bayareascience.org/calendar/index.php?com=details&eID=33349
X-WR-RELCALID:BayAreaScience.org U.S. CHIPS & Science Act: What It Means for the Future of, Well, Everything 20230125T160000
X-WR-TIMEZONE:America/New_York
X-WR-CALNAME:BayAreaScience.org
BEGIN:VEVENT
URL;VALUE=URI:https://www.bayareascience.org/calendar/index.php?com=detail&eID=33349
DTSTART:20230125T160000
DTEND:20230125T170000
SUMMARY:U.S. CHIPS & Science Act: What It Means for the Future of\, Well\, Everything
DESCRIPTION:Major tectonic shifts\, decades in the making\, are taking place across the globe right now. Russia's illegal war against Ukraine drags on\, inflation has not yet been tamed\, recession is looming\,...\n______________________________\nThis Event Downloaded From a Helios Calendar Powered Site
LOCATION:CITRIS at UC Berkeley - Sutardja Dai Hall Banatao Auditorium\, Berkeley\, CA  94720
CATEGORIES:BayAreaScience.org Events
PRIORITY:0
TRANSP:TRANSPARENT
END:VEVENT
END:VCALENDAR