BEGIN:VCALENDAR
VERSION:2.0
METHOD:PUBLISH
CALSCALE:GREGORIAN
PRODID:-//Refresh Web Development//Helios Calendar//EN
X-FROM-URL:https://www.bayareascience.org/calendar/index.php?com=details&eID=33362
X-WR-RELCALID:BayAreaScience.org Evolution of mesendoderm patterning in echinoderm embryos 20230117T160000
X-WR-TIMEZONE:America/New_York
X-WR-CALNAME:BayAreaScience.org
BEGIN:VEVENT
URL;VALUE=URI:https://www.bayareascience.org/calendar/index.php?com=detail&eID=33362
DTSTART:20230117T160000
DTEND:20230117T170000
SUMMARY:Evolution of mesendoderm patterning in echinoderm embryos
DESCRIPTION:Vanessa Barone studied molecular biology at the University of Turin\, Italy\, and then pursued her Ph.D. in the Carl-Philipp Heisenberg group at the Institute of Science and...\n______________________________\nThis Event Downloaded From a Helios Calendar Powered Site
LOCATION:James H. Clark Center (Bldg 340) - Stanford University 318 Campus Dr\, Stanford\, CA  94305
CATEGORIES:BayAreaScience.org Events
PRIORITY:0
TRANSP:TRANSPARENT
END:VEVENT
END:VCALENDAR