BEGIN:VCALENDAR
VERSION:2.0
METHOD:PUBLISH
CALSCALE:GREGORIAN
PRODID:-//Refresh Web Development//Helios Calendar//EN
X-FROM-URL:https://www.bayareascience.org/calendar/index.php?com=details&eID=33364
X-WR-RELCALID:BayAreaScience.org The Universe of Galaxies, James Webb Space Telescope, and STEAM Research Opportunities for Young People 20230125T190000
X-WR-TIMEZONE:America/New_York
X-WR-CALNAME:BayAreaScience.org
BEGIN:VEVENT
URL;VALUE=URI:https://www.bayareascience.org/calendar/index.php?com=detail&eID=33364
DTSTART:20230125T190000
DTEND:20230125T190000
SUMMARY:The Universe of Galaxies\, James Webb Space Telescope\, and STEAM Research Opportunities for Young People
DESCRIPTION:My Science on Tap presentation will touch upon highlights from my group's research on galaxies. We tend to focus on nearby spiral galaxies like the Andromeda and Triangulum galaxies and the smaller...\n______________________________\nThis Event Downloaded From a Helios Calendar Powered Site
LOCATION:Museum of Art and History - 705 Front St Back Patio\, Santa Cruz\, CA  95060
CATEGORIES:BayAreaScience.org Events
PRIORITY:0
TRANSP:TRANSPARENT
END:VEVENT
END:VCALENDAR