BEGIN:VCALENDAR
VERSION:2.0
METHOD:PUBLISH
CALSCALE:GREGORIAN
PRODID:-//Refresh Web Development//Helios Calendar//EN
X-FROM-URL:https://www.bayareascience.org/calendar/index.php?com=details&eID=33367
X-WR-RELCALID:BayAreaScience.org Donâ€™t Whack that Whale! Whales in a Highly Urbanized Estuary: Evaluating Risk of Ship Strike to Humpback Whales in San Francisco Bay 20230419T193000
X-WR-TIMEZONE:America/New_York
X-WR-CALNAME:BayAreaScience.org
BEGIN:VEVENT
URL;VALUE=URI:https://www.bayareascience.org/calendar/index.php?com=detail&eID=33367
DTSTART:20230419T193000
DTEND:20230419T203000
SUMMARY:Donâ€™t Whack that Whale! Whales in a Highly Urbanized Estuary: Evaluating Risk of Ship Strike to Humpback Whales in San Francisco Bay
DESCRIPTION:Speaker: Bekah Lane of the Marine Mammal Center\, Sausalito\n______________________________\nThis Event Downloaded From a Helios Calendar Powered Site
LOCATION:Marin Science Seminar - 320 Nova Albion Way Terra Linda High School Innovation Hub 1st Floor\, San Rafael\, CA USA 94903
CATEGORIES:BayAreaScience.org Events
PRIORITY:0
TRANSP:TRANSPARENT
END:VEVENT
END:VCALENDAR