BEGIN:VCALENDAR
VERSION:2.0
METHOD:PUBLISH
CALSCALE:GREGORIAN
PRODID:-//Refresh Web Development//Helios Calendar//EN
X-FROM-URL:https://www.bayareascience.org/calendar/index.php?com=details&eID=33368
X-WR-RELCALID:BayAreaScience.org Entra-Verified ID: A cheaper, faster & more trustworthy ID for remote employees - Rescheduled 20230111T180000
X-WR-TIMEZONE:America/New_York
X-WR-CALNAME:BayAreaScience.org
BEGIN:VEVENT
URL;VALUE=URI:https://www.bayareascience.org/calendar/index.php?com=detail&eID=33368
DTSTART:20230111T180000
DTEND:20230111T190000
SUMMARY:Entra-Verified ID: A cheaper\, faster & more trustworthy ID for remote employees - Rescheduled
DESCRIPTION:For the past few years\, Microsoft has been working with Decentralized Identity Foundation and World Wide Web Consortium communities on building systems with decentralized identifiers and verifiable...\n______________________________\nThis Event Downloaded From a Helios Calendar Powered Site
LOCATION:SF Bay Association of Computing Machinery -  \, \, CA  
CATEGORIES:BayAreaScience.org Events
PRIORITY:0
TRANSP:TRANSPARENT
END:VEVENT
END:VCALENDAR