BEGIN:VCALENDAR
VERSION:2.0
METHOD:PUBLISH
CALSCALE:GREGORIAN
PRODID:-//Refresh Web Development//Helios Calendar//EN
X-FROM-URL:https://www.bayareascience.org/calendar/index.php?com=details&eID=33376
X-WR-RELCALID:BayAreaScience.org An Introduction to Astrophotography - Livestream 20230128T190000
X-WR-TIMEZONE:America/New_York
X-WR-CALNAME:BayAreaScience.org
BEGIN:VEVENT
URL;VALUE=URI:https://www.bayareascience.org/calendar/index.php?com=detail&eID=33376
DTSTART:20230128T190000
DTEND:20230128T190000
SUMMARY:An Introduction to Astrophotography - Livestream
DESCRIPTION:Have you ever wondered how astronomers take a picture of another galaxy or celestial object? In this presentation\, you will hear how amateur astronomers produce these images. This includes the...\n______________________________\nThis Event Downloaded From a Helios Calendar Powered Site
LOCATION:East Bay Astronomical Society -  \, \, CA  
CATEGORIES:BayAreaScience.org Events
PRIORITY:0
TRANSP:TRANSPARENT
END:VEVENT
END:VCALENDAR