BEGIN:VCALENDAR
VERSION:2.0
METHOD:PUBLISH
CALSCALE:GREGORIAN
PRODID:-//Refresh Web Development//Helios Calendar//EN
X-FROM-URL:https://www.bayareascience.org/calendar/index.php?com=details&eID=33377
X-WR-RELCALID:BayAreaScience.org Pinniped Personalities: Ask an Expert - Livestream 20230215T123000
X-WR-TIMEZONE:America/New_York
X-WR-CALNAME:BayAreaScience.org
BEGIN:VEVENT
URL;VALUE=URI:https://www.bayareascience.org/calendar/index.php?com=detail&eID=33377
DTSTART:20230215T123000
DTEND:20230215T133000
SUMMARY:Pinniped Personalities: Ask an Expert - Livestream
DESCRIPTION:Curious about what itâ€™s like working with marine mammals like elephant seals\, Hawaiian monk seals and California sea lions? Want to know which species are the loudest\, the smartest or the...\n______________________________\nThis Event Downloaded From a Helios Calendar Powered Site
LOCATION:Marine Mammal Center -  \, \, CA  
CATEGORIES:BayAreaScience.org Events
PRIORITY:0
TRANSP:TRANSPARENT
END:VEVENT
END:VCALENDAR