BEGIN:VCALENDAR
VERSION:2.0
METHOD:PUBLISH
CALSCALE:GREGORIAN
PRODID:-//Refresh Web Development//Helios Calendar//EN
X-FROM-URL:https://www.bayareascience.org/calendar/index.php?com=details&eID=33378
X-WR-RELCALID:BayAreaScience.org Behind-the-Scenes Look at Pupping Season - Livestream 20230413T123000
X-WR-TIMEZONE:America/New_York
X-WR-CALNAME:BayAreaScience.org
BEGIN:VEVENT
URL;VALUE=URI:https://www.bayareascience.org/calendar/index.php?com=detail&eID=33378
DTSTART:20230413T123000
DTEND:20230413T133000
SUMMARY:Behind-the-Scenes Look at Pupping Season - Livestream
DESCRIPTION:Itâ€™s pupping season at The Marine Mammal Center: a time when our pens are filled with starving\, young animals in need of care that Center staff and volunteers work to provide.Please...\n______________________________\nThis Event Downloaded From a Helios Calendar Powered Site
LOCATION:Marine Mammal Center -  \, \, CA  
CATEGORIES:BayAreaScience.org Events
PRIORITY:0
TRANSP:TRANSPARENT
END:VEVENT
END:VCALENDAR