BEGIN:VCALENDAR
VERSION:2.0
METHOD:PUBLISH
CALSCALE:GREGORIAN
PRODID:-//Refresh Web Development//Helios Calendar//EN
X-FROM-URL:https://www.bayareascience.org/calendar/index.php?com=details&eID=33380
X-WR-RELCALID:BayAreaScience.org 20th Anniversary KIPAC Community Day 20230415T130000
X-WR-TIMEZONE:America/New_York
X-WR-CALNAME:BayAreaScience.org
BEGIN:VEVENT
URL;VALUE=URI:https://www.bayareascience.org/calendar/index.php?com=detail&eID=33380
DTSTART:20230415T130000
DTEND:20230415T170000
SUMMARY:20th Anniversary KIPAC Community Day
DESCRIPTION:Join us to celebrate KIPAC's 20th anniversary! This event will take the form of an astronomy festival\, featuring numerous stations of live demonstrations\, experiments\, and hands-on activities....\n______________________________\nThis Event Downloaded From a Helios Calendar Powered Site
LOCATION:Science and Engineering Quad - Stanford University \, Stanford\, CA  94305
CATEGORIES:BayAreaScience.org Events
PRIORITY:0
TRANSP:TRANSPARENT
END:VEVENT
END:VCALENDAR