BEGIN:VCALENDAR
VERSION:2.0
METHOD:PUBLISH
CALSCALE:GREGORIAN
PRODID:-//Refresh Web Development//Helios Calendar//EN
X-FROM-URL:https://www.bayareascience.org/calendar/index.php?com=details&eID=33386
X-WR-RELCALID:BayAreaScience.org  Chip Design Tool Workshop on RTL  20230211T080000
X-WR-TIMEZONE:America/New_York
X-WR-CALNAME:BayAreaScience.org
BEGIN:VEVENT
URL;VALUE=URI:https://www.bayareascience.org/calendar/index.php?com=detail&eID=33386
DTSTART:20230211T080000
DTEND:20230211T120000
SUMMARY: Chip Design Tool Workshop on RTL 
DESCRIPTION:In this free\, half-day workshop covering the fundamentals of power optimization - a critical component in today's chip design - you will expand your job prospects in the competitive and growing...\n______________________________\nThis Event Downloaded From a Helios Calendar Powered Site
LOCATION:UC Santa Cruz Silicon Valley Campus - 3175 Bowers Ave \, Santa Clara\, CA  95054
CATEGORIES:BayAreaScience.org Events
PRIORITY:0
TRANSP:TRANSPARENT
END:VEVENT
END:VCALENDAR